Workbook

Sheet Avsättningsplan
C1: SNYLTHUMLANS SAMFÄLLIGHETSFÖRENING | G1: Uppdaterad; 2017-11-08
C2: Förslag till - Avsättningsplan 2017 >
C4: Objekt | D4: Ber kostn 2016 | E4: Uppskat. livslängd | F4: Ber. åter-anskaffn. | G4: Per år | H4: Per fastighet & år | M4: Uppräkningsfaktor
B5: 1 | C5: Asfaltering | D5: 100000 | E5: 20 | F5: =+D5*M5 -> 148594.74 | G5: =+F5/E5 -> 7429.737 | H5: =+G5/87 -> 85.399276 | M5: =VLOOKUP(E5,Blad1!B4:C33,2) -> 1.4859474
B6: 2 | C6: Lekplats | D6: 200000 | E6: 25 | F6: =+D6*M6 -> 328121.2 | G6: =+F6/E6 -> 13124.848 | H6: =+G6/87 -> 150.86032 | M6: =VLOOKUP(E6,Blad1!B4:C33,2) -> 1.640606
B7: 3 | C7: Dungen, plantering björkar | D7: 50000 | E7: 10 | F7: =+D7*M7 -> 60949.721 | G7: =+F7/E7 -> 6094.9721 | H7: =+G7/87 -> 70.057151 | M7: =VLOOKUP(E7,Blad1!B4:C33,2) -> 1.2189944
B8: 4 | C8: Dränering & Brunnar | D8: 50000 | E8: 20 | F8: =+D8*M8 -> 74297.37 | G8: =+F8/E8 -> 3714.8685 | H8: =+G8/87 -> 42.699638 | M8: =VLOOKUP(E8,Blad1!B4:C33,2) -> 1.4859474
B9: 5 | C9: Grönområden / planteringar | D9: 50000 | E9: 10 | F9: =+D9*M9 -> 60949.721 | M9: =VLOOKUP(E9,Blad1!B4:C33,2) -> 1.2189944
B10: 6 | C10: Planteringar
B11: 7 | C11: Dagvattenledningar
B12: 8 | C12: Brunnar
B13: 7
B14: 8
C15: Summa kostnad: | D15: =SUM(D5:D9) -> 450000 | F15: =SUM(F5:F8) -> 611963.03 | G15: =SUM(G5:G8) -> 30364.426 | H15: =SUM(H5:H8) -> 349.01639
C17: Resp. objekts kostnad 2016 har uppskattats.
C18: Avsättningen för resp. objekt ska spegla samfällighetens återanskaffningsvärde efter uppskattad livslängd.
C19: Återanskaffningsvärdet har inflationsuppräknats med: | E19: =+Blad1!D4 -> 0.02 | F19: per år.
C21: Snylthumlan 35 och Stenhumlan 54 förvalta:
C22: - förbindelseleder (gångvägarna),
C23: - grönområden,
C24: - planteringar,
C25: - lekplatser,
C26: - dagvattenledningar och
C27: - brunnar.
C29: En uppdelning och större transparens av samfällighetsavgiften / budgeten skapar större förståelse för årsavgiftens storlek.

Sheet Blad1
B1: PRISUTVECKLING
B3: År. | D3: Prisutv. | G3: Nytt pris
B4: 1 | C4: =+G4/100 -> 1.02 | D4: 0.02 | E4: 100 | G4: =+E4*(1+D4) -> 102 | J4: 100 | K4: =+J4*1.03 -> 103
B5: 2 | C5: =+G5/100 -> 1.0404 | D5: =+D4 -> 0.02 | E5: =+G4 -> 102 | G5: =+E5*(1+D5) -> 104.04 | J5: =+K4 -> 103 | K5: =+J5*1.03 -> 106.09
B6: 3 | C6: =+G6/100 -> 1.061208 | D6: =+D5 -> 0.02 | E6: =+G5 -> 104.04 | G6: =+E6*(1+D6) -> 106.1208 | J6: =+K5 -> 106.09 | K6: =+J6*1.03 -> 109.2727
B7: 4 | C7: =+G7/100 -> 1.0824322 | D7: =+D6 -> 0.02 | E7: =+G6 -> 106.1208 | G7: =+E7*(1+D7) -> 108.24322 | J7: =+K6 -> 109.2727 | K7: =+J7*1.03 -> 112.55088
B8: 5 | C8: =+G8/100 -> 1.1040808 | D8: =+D7 -> 0.02 | E8: =+G7 -> 108.24322 | G8: =+E8*(1+D8) -> 110.40808 | J8: =+K7 -> 112.55088 | K8: =+J8*1.03 -> 115.92741
B9: 6 | C9: =+G9/100 -> 1.1261624 | D9: =+D8 -> 0.02 | E9: =+G8 -> 110.40808 | G9: =+E9*(1+D9) -> 112.61624 | J9: =+K8 -> 115.92741 | K9: =+J9*1.03 -> 119.40523
B10: 7 | C10: =+G10/100 -> 1.1486857 | D10: =+D9 -> 0.02 | E10: =+G9 -> 112.61624 | G10: =+E10*(1+D10) -> 114.86857 | J10: =+K9 -> 119.40523 | K10: =+J10*1.03 -> 122.98739
B11: 8 | C11: =+G11/100 -> 1.1716594 | D11: =+D10 -> 0.02 | E11: =+G10 -> 114.86857 | G11: =+E11*(1+D11) -> 117.16594 | J11: =+K10 -> 122.98739 | K11: =+J11*1.03 -> 126.67701
B12: 9 | C12: =+G12/100 -> 1.1950926 | D12: =+D11 -> 0.02 | E12: =+G11 -> 117.16594 | G12: =+E12*(1+D12) -> 119.50926 | J12: =+K11 -> 126.67701 | K12: =+J12*1.03 -> 130.47732
B13: 10 | C13: =+G13/100 -> 1.2189944 | D13: =+D12 -> 0.02 | E13: =+G12 -> 119.50926 | G13: =+E13*(1+D13) -> 121.89944 | J13: =+K12 -> 130.47732 | K13: =+J13*1.03 -> 134.39164
B14: 11 | C14: =+G14/100 -> 1.2433743 | D14: =+D13 -> 0.02 | E14: =+G13 -> 121.89944 | G14: =+E14*(1+D14) -> 124.33743 | J14: =+K13 -> 134.39164 | K14: =+J14*1.03 -> 138.42339
B15: 12 | C15: =+G15/100 -> 1.2682418 | D15: =+D14 -> 0.02 | E15: =+G14 -> 124.33743 | G15: =+E15*(1+D15) -> 126.82418
B16: 13 | C16: =+G16/100 -> 1.2936066 | D16: =+D15 -> 0.02 | E16: =+G15 -> 126.82418 | G16: =+E16*(1+D16) -> 129.36066
B17: 14 | C17: =+G17/100 -> 1.3194788 | D17: =+D16 -> 0.02 | E17: =+G16 -> 129.36066 | G17: =+E17*(1+D17) -> 131.94788
B18: 15 | C18: =+G18/100 -> 1.3458683 | D18: =+D17 -> 0.02 | E18: =+G17 -> 131.94788 | G18: =+E18*(1+D18) -> 134.58683
B19: 16 | C19: =+G19/100 -> 1.3727857 | D19: =+D18 -> 0.02 | E19: =+G18 -> 134.58683 | G19: =+E19*(1+D19) -> 137.27857
B20: 17 | C20: =+G20/100 -> 1.4002414 | D20: =+D19 -> 0.02 | E20: =+G19 -> 137.27857 | G20: =+E20*(1+D20) -> 140.02414
B21: 18 | C21: =+G21/100 -> 1.4282462 | D21: =+D20 -> 0.02 | E21: =+G20 -> 140.02414 | G21: =+E21*(1+D21) -> 142.82462
B22: 19 | C22: =+G22/100 -> 1.4568112 | D22: =+D21 -> 0.02 | E22: =+G21 -> 142.82462 | G22: =+E22*(1+D22) -> 145.68112
B23: 20 | C23: =+G23/100 -> 1.4859474 | D23: =+D22 -> 0.02 | E23: =+G22 -> 145.68112 | G23: =+E23*(1+D23) -> 148.59474
B24: 21 | C24: =+G24/100 -> 1.5156663 | D24: =+D23 -> 0.02 | E24: =+G23 -> 148.59474 | G24: =+E24*(1+D24) -> 151.56663
B25: 22 | C25: =+G25/100 -> 1.5459797 | D25: =+D24 -> 0.02 | E25: =+G24 -> 151.56663 | G25: =+E25*(1+D25) -> 154.59797
B26: 23 | C26: =+G26/100 -> 1.5768993 | D26: =+D25 -> 0.02 | E26: =+G25 -> 154.59797 | G26: =+E26*(1+D26) -> 157.68993
... B33: 30 | C33: =+G33/100 -> 1.8113616 | D33: =+D32 -> 0.02 | E33: =+G32 -> 177.58447 | G33: =+E33*(1+D33) -> 181.13616
